BEGIN:VCALENDAR
VERSION:2.0
PRODID:-//MariaTheresia Schmitz - ECPv6.15.20//NONSGML v1.0//EN
CALSCALE:GREGORIAN
METHOD:PUBLISH
X-WR-CALNAME:MariaTheresia Schmitz
X-ORIGINAL-URL:https://mt-schmitz.de
X-WR-CALDESC:Veranstaltungen für MariaTheresia Schmitz
REFRESH-INTERVAL;VALUE=DURATION:PT1H
X-Robots-Tag:noindex
X-PUBLISHED-TTL:PT1H
BEGIN:VTIMEZONE
TZID:Europe/Berlin
BEGIN:DAYLIGHT
TZOFFSETFROM:+0100
TZOFFSETTO:+0200
TZNAME:CEST
DTSTART:20240331T010000
END:DAYLIGHT
BEGIN:STANDARD
TZOFFSETFROM:+0200
TZOFFSETTO:+0100
TZNAME:CET
DTSTART:20241027T010000
END:STANDARD
BEGIN:DAYLIGHT
TZOFFSETFROM:+0100
TZOFFSETTO:+0200
TZNAME:CEST
DTSTART:20250330T010000
END:DAYLIGHT
BEGIN:STANDARD
TZOFFSETFROM:+0200
TZOFFSETTO:+0100
TZNAME:CET
DTSTART:20251026T010000
END:STANDARD
BEGIN:DAYLIGHT
TZOFFSETFROM:+0100
TZOFFSETTO:+0200
TZNAME:CEST
DTSTART:20260329T010000
END:DAYLIGHT
BEGIN:STANDARD
TZOFFSETFROM:+0200
TZOFFSETTO:+0100
TZNAME:CET
DTSTART:20261025T010000
END:STANDARD
END:VTIMEZONE
BEGIN:VEVENT
DTSTART;TZID=Europe/Berlin:20250805T190000
DTEND;TZID=Europe/Berlin:20250805T210000
DTSTAMP:20260421T170007
CREATED:20250626T135617Z
LAST-MODIFIED:20250626T140147Z
UID:1852-1754420400-1754427600@mt-schmitz.de
SUMMARY:Heilung in Bewegung
DESCRIPTION:Schlaufenbewegung Dienstags
URL:https://mt-schmitz.de/termin/heilung-in-bewegung-in-der-schlaufe/
END:VEVENT
BEGIN:VEVENT
DTSTART;TZID=Europe/Berlin:20250817T110000
DTEND;TZID=Europe/Berlin:20250817T133000
DTSTAMP:20260421T170007
CREATED:20240821T085034Z
LAST-MODIFIED:20250530T092104Z
UID:340-1755428400-1755437400@mt-schmitz.de
SUMMARY:Frühstücken & Aura Sehen
DESCRIPTION:Wir wollen gemeinsam frühstücken und es uns gut gehen lassen. Und so ganz nebenbei beschäftigen wir uns mit der Entwicklung unseres freien Ichs.\n„Wer bin ich?“ ist eine Frage\, die einer Antwort bedarf. Unsere Entwicklung zum „Ich“ durchläuft verschiedene Bewusstseinsentwicklungsstufen um ein „freies Ich“ zu werden. Wir schauen an diesem Morgen auf unseren Geist\, nach dem Widerspruch Leben und Tod. Hier stecken die Ängste vor dem Allein Sein. Bei Überwindung entsteht immer mehr Ahnung und Vertrauen\, das alles mit Allem verbunden ist.\nNach dem Frühstück werden wir die bewusst gewordenen Einschränkungen mit Lösungen aus dem Aura Sehen nach Rainer Strücker bearbeiten und lösen\, so dass sich unser Leben mit immer mehr lebendigem Wissen auffüllt. \nAusschreibung Aurafrühstück
URL:https://mt-schmitz.de/termin/fruehstuecken-aura-sehen-mehr-freude-2/
LOCATION:Ute Jahnel\, Schlüterweg 10\, Saarbrücken\, 66123
ORGANIZER;CN="MariaTheresia Schmitz":MAILTO:info@mt-schmitz.de
END:VEVENT
BEGIN:VEVENT
DTSTART;TZID=Europe/Berlin:20250831T120000
DTEND;TZID=Europe/Berlin:20250831T153000
DTSTAMP:20260421T170007
CREATED:20250629T191202Z
LAST-MODIFIED:20250629T191202Z
UID:1862-1756641600-1756654200@mt-schmitz.de
SUMMARY:Nachtreffen für TN aus den Grundkursen Aura Sehen
DESCRIPTION:Ihr seid alles TN\, die bei mir einen Grundkurs zum Aura Sehen nach Rainer Strücker besucht und abgeschlossen haben\, vor längerer oder kürzerer Zeit.\nIch freue mich und bin dankbar für jeden Kurs und Jeden einzelnen von euch\, der sich für mich als Kursleiterin entschieden hatte.\n\nIch bin sehr angeregt und inspiriert bei jedem Rückblick über die Erlebnisse die während\, zwischen und nach dem Kurs stattgefunden haben. 🍀\nIch möchte euch sehr gerne einladen zu einem Austausch\, gemeinsames Essen und Weiterentwicklung für Alle.\nEgal wie lange die Ausbildung zurück liegt\, ob ihr weiter gemacht habt oder nicht. Es geht mir darum euch wieder zu sehen und euch zu zeigen wo und wie ich jetzt lebe und euch Mut zu machen die neuen Möglichkeiten wahrzunehmen und damit Quelle für andere und das umgebende Feld zu sein. 🌎\n\nAb 15.30h wollen wir gemütlich miteinander essen\, trinken\, beisammen sein. Ab dieser Uhrzeit können auch eure Partner\, Kinder…. gern mit dazu kommen.\n\nUnd bringt bitte euer Grillgut und etwas fürs gemeinsame Buffet mit.
URL:https://mt-schmitz.de/termin/nachtreffen-fuer-tn-aus-den-grundkursen-aura-sehen/
LOCATION:Forstmehren\, Forstmehren\, 57635\, Germany
ORGANIZER;CN="MariaTheresia Schmitz":MAILTO:info@mt-schmitz.de
END:VEVENT
END:VCALENDAR