BEGIN:VCALENDAR
VERSION:2.0
PRODID:-//MariaTheresia Schmitz - ECPv6.15.20//NONSGML v1.0//EN
CALSCALE:GREGORIAN
METHOD:PUBLISH
X-WR-CALNAME:MariaTheresia Schmitz
X-ORIGINAL-URL:https://mt-schmitz.de
X-WR-CALDESC:Veranstaltungen für MariaTheresia Schmitz
REFRESH-INTERVAL;VALUE=DURATION:PT1H
X-Robots-Tag:noindex
X-PUBLISHED-TTL:PT1H
BEGIN:VTIMEZONE
TZID:Europe/Berlin
BEGIN:DAYLIGHT
TZOFFSETFROM:+0100
TZOFFSETTO:+0200
TZNAME:CEST
DTSTART:20240331T010000
END:DAYLIGHT
BEGIN:STANDARD
TZOFFSETFROM:+0200
TZOFFSETTO:+0100
TZNAME:CET
DTSTART:20241027T010000
END:STANDARD
BEGIN:DAYLIGHT
TZOFFSETFROM:+0100
TZOFFSETTO:+0200
TZNAME:CEST
DTSTART:20250330T010000
END:DAYLIGHT
BEGIN:STANDARD
TZOFFSETFROM:+0200
TZOFFSETTO:+0100
TZNAME:CET
DTSTART:20251026T010000
END:STANDARD
BEGIN:DAYLIGHT
TZOFFSETFROM:+0100
TZOFFSETTO:+0200
TZNAME:CEST
DTSTART:20260329T010000
END:DAYLIGHT
BEGIN:STANDARD
TZOFFSETFROM:+0200
TZOFFSETTO:+0100
TZNAME:CET
DTSTART:20261025T010000
END:STANDARD
END:VTIMEZONE
BEGIN:VEVENT
DTSTART;TZID=Europe/Berlin:20250406T140000
DTEND;TZID=Europe/Berlin:20250406T160000
DTSTAMP:20260422T000502
CREATED:20241209T161748Z
LAST-MODIFIED:20250320T155501Z
UID:1579-1743948000-1743955200@mt-schmitz.de
SUMMARY:Schlaufen laufen - Entscheidung
DESCRIPTION:Die universelle Schlaufe\, auch als liegende Acht 8 bekannt\, steht für das unendliche\, die immerwährende Entwicklung und den Ausgleich.\nDie Bewegung in der Schlaufe kann uns helfen Stockungen wieder in Fluss zu bringen und uns damit neuer Möglichkeiten bewusst zu werden.\nWir wollen uns dieses Mal mit dem Thema „Entscheidungen“ auf den Weg machen.\nDie Wanderung ﬁndet gemütlich in und um Forstmehren statt. Die Gesamtstrecke beträgt 5 km und dauert ca. 2 Stunden mit Straßen-\, Schotter- und Wiesenweg. \nAusschreibung Schlaufe_Entscheidung
URL:https://mt-schmitz.de/termin/schlaufen-laufen-2025/
LOCATION:Parkplatz Mehrbachstübchen\, Kuhweg 1\, Forstmehren\, 57635
ORGANIZER;CN="MariaTheresia Schmitz":MAILTO:info@mt-schmitz.de
END:VEVENT
BEGIN:VEVENT
DTSTART;TZID=Europe/Berlin:20250410T183000
DTEND;TZID=Europe/Berlin:20250410T210000
DTSTAMP:20260422T000502
CREATED:20250320T145446Z
LAST-MODIFIED:20250320T145636Z
UID:1784-1744309800-1744318800@mt-schmitz.de
SUMMARY:Tutorium in Forstmehren
DESCRIPTION:Voraussetzung zur Teilnahme ist\, dass der Grundkurs Aura Sehen nach Rainer Strücker abgeschlossen wurde. \nAusschreibung Tutorium_25
URL:https://mt-schmitz.de/termin/tutorium-im-forstmehren/
LOCATION:Forstmehren\, Forstmehren\, 57635\, Germany
ORGANIZER;CN="MariaTheresia Schmitz":MAILTO:info@mt-schmitz.de
END:VEVENT
BEGIN:VEVENT
DTSTART;TZID=Europe/Berlin:20250426T110000
DTEND;TZID=Europe/Berlin:20250426T133000
DTSTAMP:20260422T000502
CREATED:20250320T160759Z
LAST-MODIFIED:20250320T160759Z
UID:1798-1745665200-1745674200@mt-schmitz.de
SUMMARY:Frühstücken und Aura Sehen
DESCRIPTION:Wir wollen gemeinsam frühstücken und es uns gut gehen lassen. Und so ganz nebenbei beschäftigen wir uns mit unserem „ICH“.\n„Wer bin ich?“ ist eine Frage\, die einer Antwort bedarf. Unsere Entwicklung zum „Ich“ durchläuft verschiedene Bewusstseinsentwicklungsstufen um ein „freies Ich“ zu werden. Wir schauen an diesem Morgen auf unser ICH im Alltag mit dem Widerspruch von Leben und Tod. Die damit verbundenen Ängste behindern unsere Entwicklung und somit das Leben mit seinen vielfältigen Möglichkeiten. \nAusschreibung SB_Leben_und_Tod
URL:https://mt-schmitz.de/termin/fruehstuecken-und-aura-sehen-2/
LOCATION:Saarbrücken-Rodenhof\, Neunkircher Str. 111\, Saarbrücken\, 66113\, Germany
ORGANIZER;CN="MariaTheresia Schmitz":MAILTO:info@mt-schmitz.de
END:VEVENT
END:VCALENDAR