BEGIN:VCALENDAR
VERSION:2.0
PRODID:-//MariaTheresia Schmitz - ECPv6.15.20//NONSGML v1.0//EN
CALSCALE:GREGORIAN
METHOD:PUBLISH
X-WR-CALNAME:MariaTheresia Schmitz
X-ORIGINAL-URL:https://mt-schmitz.de
X-WR-CALDESC:Veranstaltungen für MariaTheresia Schmitz
REFRESH-INTERVAL;VALUE=DURATION:PT1H
X-Robots-Tag:noindex
X-PUBLISHED-TTL:PT1H
BEGIN:VTIMEZONE
TZID:Europe/Berlin
BEGIN:DAYLIGHT
TZOFFSETFROM:+0100
TZOFFSETTO:+0200
TZNAME:CEST
DTSTART:20230326T010000
END:DAYLIGHT
BEGIN:STANDARD
TZOFFSETFROM:+0200
TZOFFSETTO:+0100
TZNAME:CET
DTSTART:20231029T010000
END:STANDARD
BEGIN:DAYLIGHT
TZOFFSETFROM:+0100
TZOFFSETTO:+0200
TZNAME:CEST
DTSTART:20240331T010000
END:DAYLIGHT
BEGIN:STANDARD
TZOFFSETFROM:+0200
TZOFFSETTO:+0100
TZNAME:CET
DTSTART:20241027T010000
END:STANDARD
BEGIN:DAYLIGHT
TZOFFSETFROM:+0100
TZOFFSETTO:+0200
TZNAME:CEST
DTSTART:20250330T010000
END:DAYLIGHT
BEGIN:STANDARD
TZOFFSETFROM:+0200
TZOFFSETTO:+0100
TZNAME:CET
DTSTART:20251026T010000
END:STANDARD
END:VTIMEZONE
BEGIN:VEVENT
DTSTART;TZID=Europe/Berlin:20241207T100000
DTEND;TZID=Europe/Berlin:20241207T123000
DTSTAMP:20260422T072700
CREATED:20240821T085234Z
LAST-MODIFIED:20241016T071742Z
UID:339-1733565600-1733574600@mt-schmitz.de
SUMMARY:Frühstücken & Aura Sehen - mehr Erfolg
DESCRIPTION:Wir wollen gemeinsam frühstücken und es uns gut gehen lassen. Und so ganz\nnebenbei beschäftigen wir uns mit unserem „ICH“.\n„Wer bin ich?“ ist eine Frage\, die einer Antwort bedarf. Unsere Entwicklung\nzum „Ich“ durchläuft verschiedene Bewusstseinsentwicklungsstufen um ein\n„freies Ich“ zu werden. Wir schauen uns an diesem Morgen unser Rollen-Ich\,\nmit dem Widerspruch Macht – Ohnmacht und die sich daraus ergebenden\nMuster der Kompensation im Leben an.\nNach dem Frühstück werden wir die bewusst gewordenen Einschränkungen\nmit Lösungen aus dem Aura Sehen nach Rainer Strücker bearbeiten und lösen\,\nso dass wir immer mehr ERFOLG werden. \nDiese Veranstaltung kann auch an anderen Orten\, zu anderen Zeiten erfolgen.\nVorkenntnisse im Aura Sehen sind nicht erforderlich. \nBring bitte einen Beitrag zum Frühstück mit\, der Freude macht. \nAusschreibung_Aurafrühstück
URL:https://mt-schmitz.de/termin/fruehstuecken-aura-sehen-mehr-erfolg/
LOCATION:Brygidka Schendel\, Nassauerstr. 15\, Saarbrücken\, 66111\, Deutschland
ORGANIZER;CN="MariaTheresia Schmitz":MAILTO:info@mt-schmitz.de
END:VEVENT
BEGIN:VEVENT
DTSTART;TZID=Europe/Berlin:20241214T143000
DTEND;TZID=Europe/Berlin:20241214T180000
DTSTAMP:20260422T072700
CREATED:20240901T110940Z
LAST-MODIFIED:20241119T134224Z
UID:742-1734186600-1734199200@mt-schmitz.de
SUMMARY:Vortrag - Feste\, Feiern\, Rituale
DESCRIPTION:Vortrag von und mit Dennis Strücker & MariaTheresia Schmitz \nWeitere Infos erhalten Sie hier. \n  \nAusschreibung
URL:https://mt-schmitz.de/termin/lebendiges-miteinander-gestalten-verbunden-sein/
LOCATION:Strücker energetische Konzepte GmbH\, Zum Steimelsberg 1\, Hennef\, 53773
ORGANIZER;CN="MariaTheresia Schmitz":MAILTO:info@mt-schmitz.de
END:VEVENT
BEGIN:VEVENT
DTSTART;TZID=Europe/Berlin:20241229T133000
DTEND;TZID=Europe/Berlin:20241229T133000
DTSTAMP:20260422T072700
CREATED:20241209T161430Z
LAST-MODIFIED:20241209T163755Z
UID:1576-1735479000-1735479000@mt-schmitz.de
SUMMARY:Schlaufen laufen 2024
DESCRIPTION:Die universelle Schlaufe\, auch als liegende Acht 8 bekannt\, steht für das unendliche\, die immerwährende Entwicklung und den Ausgleich.\nWir wollen uns dieses Mal mit dem Jahr 2024 beschäftigen.\nDas vergangene persönliche Jahr in der Bewegung mit unterschiedlichen Blickwinkeln nochmals erlaufen\, damit die noch nicht erledigten Themen keine oder weniger Wirkung ins neue Jahr 2025 haben.\nDie Wanderung ﬁndet gemütlich in und um Forstmehren statt. Die Gesamtstrecke beträgt 5 km und dauert ca. 2 Stunden mit Straßen-\, Schotter- und Wiesenweg.\nNach einer kurzen inhaltlichen Einweisung machen wir uns gemeinsam auf den Weg. \nAusschreibung Schlaufe_2024
URL:https://mt-schmitz.de/termin/schlaufen-laufen/
LOCATION:Parkplatz Mehrbachstübchen\, Kuhweg 1\, Forstmehren\, 57635
ORGANIZER;CN="MariaTheresia Schmitz":MAILTO:info@mt-schmitz.de
END:VEVENT
END:VCALENDAR