BEGIN:VCALENDAR
VERSION:2.0
PRODID:-//MariaTheresia Schmitz - ECPv6.15.20//NONSGML v1.0//EN
CALSCALE:GREGORIAN
METHOD:PUBLISH
X-WR-CALNAME:MariaTheresia Schmitz
X-ORIGINAL-URL:https://mt-schmitz.de
X-WR-CALDESC:Veranstaltungen für MariaTheresia Schmitz
REFRESH-INTERVAL;VALUE=DURATION:PT1H
X-Robots-Tag:noindex
X-PUBLISHED-TTL:PT1H
BEGIN:VTIMEZONE
TZID:Europe/Berlin
BEGIN:DAYLIGHT
TZOFFSETFROM:+0100
TZOFFSETTO:+0200
TZNAME:CEST
DTSTART:20230326T010000
END:DAYLIGHT
BEGIN:STANDARD
TZOFFSETFROM:+0200
TZOFFSETTO:+0100
TZNAME:CET
DTSTART:20231029T010000
END:STANDARD
BEGIN:DAYLIGHT
TZOFFSETFROM:+0100
TZOFFSETTO:+0200
TZNAME:CEST
DTSTART:20240331T010000
END:DAYLIGHT
BEGIN:STANDARD
TZOFFSETFROM:+0200
TZOFFSETTO:+0100
TZNAME:CET
DTSTART:20241027T010000
END:STANDARD
BEGIN:DAYLIGHT
TZOFFSETFROM:+0100
TZOFFSETTO:+0200
TZNAME:CEST
DTSTART:20250330T010000
END:DAYLIGHT
BEGIN:STANDARD
TZOFFSETFROM:+0200
TZOFFSETTO:+0100
TZNAME:CET
DTSTART:20251026T010000
END:STANDARD
END:VTIMEZONE
BEGIN:VEVENT
DTSTART;TZID=Europe/Berlin:20241102T100000
DTEND;TZID=Europe/Berlin:20241102T123000
DTSTAMP:20260422T091632
CREATED:20241016T071428Z
LAST-MODIFIED:20241016T072110Z
UID:911-1730541600-1730550600@mt-schmitz.de
SUMMARY:Frühstücken & Aura Sehen in Oberirsen
DESCRIPTION:Wir wollen gemeinsam bei Ellen Malina Frühstücken und es uns gut gehen lassen. Und so ganz nebenbei beschäftigen wir uns mit dem „ICH“. \n„Wer bin ich?“ ist eine Frage\, die einer Antwort bedarf. Unsere Entwicklung zum „Ich“ durchläuft verschiedene Bewusstseinsentwicklungsstufen um ein „freies Ich“ zu werden. Wir schauen an diesem Morgen auf unser ICH im Alltag mit dem Widerspruch von Leben und Tod. Die damit verbundenen Ängste behindern unsere Entwicklung und somit das Leben mit seinen vielfältigen Möglichkeiten.\nNach dem Frühstück werden wir die bewusst gewordenen Einschränkungen mit Lösungen aus dem Aura Sehen nach Rainer Strücker bearbeiten und lösen\, so dass sich Weisheit in unserem Leben entwickeln kann. \nBring bitte einen Beitrag zum Frühstück mit\, der Freude macht. \nAusschreibung_Aurafrühstück
URL:https://mt-schmitz.de/termin/fruehstuecken-aura-sehen-in-oberirsen/
LOCATION:Oberirsen-Rimbach
ORGANIZER;CN="MariaTheresia Schmitz":MAILTO:info@mt-schmitz.de
END:VEVENT
BEGIN:VEVENT
DTSTART;TZID=Europe/Berlin:20241105T190000
DTEND;TZID=Europe/Berlin:20241105T203000
DTSTAMP:20260422T091632
CREATED:20240821T082644Z
LAST-MODIFIED:20240902T133949Z
UID:333-1730833200-1730838600@mt-schmitz.de
SUMMARY:energetische Konzepte. erleben - Wille & Durchsetzung
DESCRIPTION:Erlebnis- und Übungsrunden zum Aura Sehen nach Rainer Strücker \nWas ist Aura Sehen\, was ist Aura Sehen nicht? Oft stellt man sich unter Aura\nSehen etwas anderes vor\, als wirklich damit gemeint ist.\nPraktische Übungen aus dem Aura Sehen erhöhen die persönliche Kraft.\nEinschränkungen können sich lösen\, um immer mehr zu dem zu werden\, der\nman wirklich gemeint ist.\nAn diesen 3 Abenden gibt es Möglichkeiten\, mit Übungen aus dem Grundkurs\,\nAura Sehen zu erleben.\nDie Veranstaltungen können einzeln oder/und zusammen besucht werden.\nEin Einstieg ist jeder Zeit möglich. Vorwissen ist nicht erforderlich. \nErlebnisabend_Aura Sehen
URL:https://mt-schmitz.de/termin/energetische-konzepte-erleben-kraft-energie-3/
LOCATION:Seminarhaus Mensch und Natur\, Gartenstr. 15\, Flammersfeld\, 57632\, Deutschland
ORGANIZER;CN="MariaTheresia Schmitz":MAILTO:info@mt-schmitz.de
END:VEVENT
BEGIN:VEVENT
DTSTART;TZID=Europe/Berlin:20241130T170000
DTEND;TZID=Europe/Berlin:20241130T200000
DTSTAMP:20260422T091632
CREATED:20240910T084123Z
LAST-MODIFIED:20241123T134519Z
UID:881-1732986000-1732996800@mt-schmitz.de
SUMMARY:Vortrag - Menschen mit Demenz verstehen
DESCRIPTION:Ich möchte Ihnen mit diesem Vortrag\, anhand von praktischen Beispielen\, einen Einblick in die Erlebenswelt der Menschen mit Demenz geben\, damit mehr Verständnis & Entwicklung für Alle entsteht. \nAnmeldung unter: wimpassing@bibliotheken.at \nAusschreibung_Vortrag_Demenz
URL:https://mt-schmitz.de/termin/vortrag-menschen-mit-demenz-verstehen/
LOCATION:Wimpassing/Leitha\, Österreich\, Wimpassing/Leitha\, Austria
ORGANIZER;CN="MariaTheresia Schmitz":MAILTO:info@mt-schmitz.de
END:VEVENT
END:VCALENDAR