BEGIN:VCALENDAR
VERSION:2.0
PRODID:-//MariaTheresia Schmitz - ECPv6.15.20//NONSGML v1.0//EN
CALSCALE:GREGORIAN
METHOD:PUBLISH
X-WR-CALNAME:MariaTheresia Schmitz
X-ORIGINAL-URL:https://mt-schmitz.de
X-WR-CALDESC:Veranstaltungen für MariaTheresia Schmitz
REFRESH-INTERVAL;VALUE=DURATION:PT1H
X-Robots-Tag:noindex
X-PUBLISHED-TTL:PT1H
BEGIN:VTIMEZONE
TZID:Europe/Berlin
BEGIN:DAYLIGHT
TZOFFSETFROM:+0100
TZOFFSETTO:+0200
TZNAME:CEST
DTSTART:20240331T010000
END:DAYLIGHT
BEGIN:STANDARD
TZOFFSETFROM:+0200
TZOFFSETTO:+0100
TZNAME:CET
DTSTART:20241027T010000
END:STANDARD
BEGIN:DAYLIGHT
TZOFFSETFROM:+0100
TZOFFSETTO:+0200
TZNAME:CEST
DTSTART:20250330T010000
END:DAYLIGHT
BEGIN:STANDARD
TZOFFSETFROM:+0200
TZOFFSETTO:+0100
TZNAME:CET
DTSTART:20251026T010000
END:STANDARD
BEGIN:DAYLIGHT
TZOFFSETFROM:+0100
TZOFFSETTO:+0200
TZNAME:CEST
DTSTART:20260329T010000
END:DAYLIGHT
BEGIN:STANDARD
TZOFFSETFROM:+0200
TZOFFSETTO:+0100
TZNAME:CET
DTSTART:20261025T010000
END:STANDARD
END:VTIMEZONE
BEGIN:VEVENT
DTSTART;TZID=Europe/Berlin:20250927T100000
DTEND;TZID=Europe/Berlin:20250927T180000
DTSTAMP:20260421T165916
CREATED:20241126T064444Z
LAST-MODIFIED:20250320T145147Z
UID:1453-1758967200-1758996000@mt-schmitz.de
SUMMARY:Ausbildung Grundkurs Aura Sehen nach Rainer Strücker 2025_1
DESCRIPTION:Einführungswochenende\nJeder Mensch hat ein Lebenskraftenergiefeld\, die Aura. Sie durchdringt und umgibt unseren Körper vollständig. Alle persönlichen Potenziale\, Erlebnisse und Probleme sind in der Aura gespeichert.\nWer bereit ist\, sich an die eigene Nase zu packen\, seine Potenziale und Kraft zu erkennen und anzuerkennen\, sowie selbständig seine Probleme aufzulösen\, ist herzlich willkommen diese Strukturen im Energiefluss wahrzunehmen und zu verändern.\nÄngste und Blockaden werden mit praktischen Übungen aufgelöst\, so dass die eigene Kraft wieder frei fließen kann. Dieser zutiefst persönliche Entwicklungsprozess führt mit alltagstauglichen Lösungen zur Durchsetzung und Behauptung des eigenen Seins im Leben. \nAusschreibung Grundkurs_Forstmehren_25 \n 
URL:https://mt-schmitz.de/termin/ausbildung-grundkurs-aura-sehen-nach-rainer-struecker-2-2/
LOCATION:Forstmehren\, Forstmehren\, 57635\, Germany
ORGANIZER;CN="MariaTheresia Schmitz":MAILTO:info@mt-schmitz.de
END:VEVENT
END:VCALENDAR