BEGIN:VCALENDAR
VERSION:2.0
PRODID:-//MariaTheresia Schmitz - ECPv6.15.20//NONSGML v1.0//EN
CALSCALE:GREGORIAN
METHOD:PUBLISH
X-ORIGINAL-URL:https://mt-schmitz.de
X-WR-CALDESC:Veranstaltungen für MariaTheresia Schmitz
REFRESH-INTERVAL;VALUE=DURATION:PT1H
X-Robots-Tag:noindex
X-PUBLISHED-TTL:PT1H
BEGIN:VTIMEZONE
TZID:Europe/Berlin
BEGIN:DAYLIGHT
TZOFFSETFROM:+0100
TZOFFSETTO:+0200
TZNAME:CEST
DTSTART:20240331T010000
END:DAYLIGHT
BEGIN:STANDARD
TZOFFSETFROM:+0200
TZOFFSETTO:+0100
TZNAME:CET
DTSTART:20241027T010000
END:STANDARD
BEGIN:DAYLIGHT
TZOFFSETFROM:+0100
TZOFFSETTO:+0200
TZNAME:CEST
DTSTART:20250330T010000
END:DAYLIGHT
BEGIN:STANDARD
TZOFFSETFROM:+0200
TZOFFSETTO:+0100
TZNAME:CET
DTSTART:20251026T010000
END:STANDARD
BEGIN:DAYLIGHT
TZOFFSETFROM:+0100
TZOFFSETTO:+0200
TZNAME:CEST
DTSTART:20260329T010000
END:DAYLIGHT
BEGIN:STANDARD
TZOFFSETFROM:+0200
TZOFFSETTO:+0100
TZNAME:CET
DTSTART:20261025T010000
END:STANDARD
END:VTIMEZONE
BEGIN:VEVENT
DTSTART;TZID=Europe/Berlin:20250718T190000
DTEND;TZID=Europe/Berlin:20250718T220000
DTSTAMP:20260421T203348
CREATED:20250625T132741Z
LAST-MODIFIED:20250625T132741Z
UID:1839-1752865200-1752876000@mt-schmitz.de
SUMMARY:Übungsgruppe Erkennen & Verändern Energetischer Strukturen
DESCRIPTION:Die Übungsgruppe richtet sich an alle TeilnehmerInnen\, die am Fortgeschrittenen Kurs „Erkennen und Verändern Energetischer Strukturen“ nach Rainer Strücker teilgenommen haben. \nMutig werden\, das Erlernte anwenden und als Quelle in die Welt bringen.
URL:https://mt-schmitz.de/termin/uebungsgruppe-erkennen-veraendern-energetischer-strukturen/
LOCATION:Forstmehren\, Forstmehren\, 57635\, Germany
ORGANIZER;CN="MariaTheresia Schmitz":MAILTO:info@mt-schmitz.de
END:VEVENT
END:VCALENDAR