BEGIN:VCALENDAR
VERSION:2.0
PRODID:-//MariaTheresia Schmitz - ECPv6.15.20//NONSGML v1.0//EN
CALSCALE:GREGORIAN
METHOD:PUBLISH
X-WR-CALNAME:MariaTheresia Schmitz
X-ORIGINAL-URL:https://mt-schmitz.de
X-WR-CALDESC:Veranstaltungen für MariaTheresia Schmitz
REFRESH-INTERVAL;VALUE=DURATION:PT1H
X-Robots-Tag:noindex
X-PUBLISHED-TTL:PT1H
BEGIN:VTIMEZONE
TZID:Europe/Berlin
BEGIN:DAYLIGHT
TZOFFSETFROM:+0100
TZOFFSETTO:+0200
TZNAME:CEST
DTSTART:20240331T010000
END:DAYLIGHT
BEGIN:STANDARD
TZOFFSETFROM:+0200
TZOFFSETTO:+0100
TZNAME:CET
DTSTART:20241027T010000
END:STANDARD
BEGIN:DAYLIGHT
TZOFFSETFROM:+0100
TZOFFSETTO:+0200
TZNAME:CEST
DTSTART:20250330T010000
END:DAYLIGHT
BEGIN:STANDARD
TZOFFSETFROM:+0200
TZOFFSETTO:+0100
TZNAME:CET
DTSTART:20251026T010000
END:STANDARD
BEGIN:DAYLIGHT
TZOFFSETFROM:+0100
TZOFFSETTO:+0200
TZNAME:CEST
DTSTART:20260329T010000
END:DAYLIGHT
BEGIN:STANDARD
TZOFFSETFROM:+0200
TZOFFSETTO:+0100
TZNAME:CET
DTSTART:20261025T010000
END:STANDARD
END:VTIMEZONE
BEGIN:VEVENT
DTSTART;TZID=Europe/Berlin:20250222T110000
DTEND;TZID=Europe/Berlin:20250222T133000
DTSTAMP:20260422T053510
CREATED:20240821T083839Z
LAST-MODIFIED:20250204T190026Z
UID:335-1740222000-1740231000@mt-schmitz.de
SUMMARY:Frühstücken & Aura Sehen - Liebe
DESCRIPTION:Wir wollen gemeinsam frühstücken und es uns gut gehen lassen. Und so ganz nebenbei beschäftigen wir uns mit unserem „ICH“. \n„Wer bin ich?“ ist eine Frage\, die einer Antwort bedarf. Unsere Entwicklung zum „Ich“ durchläuft verschiedene Bewusstseinsentwicklungsstufen\, um ein „freies Ich“ zu werden. Wir schauen uns an diesem Morgen unser Gewohnheits-Ich mit dem Widerspruch von Schaden und Nutzen an. \nNach dem Frühstück werden wir die bewusst gewordenen Einschränkungen mit Lösungen aus dem Aura Sehen nach Rainer Strücker bearbeiten und lösen\, so dass sich Selbstvertrauen immer mehr im Leben durchsetzt und Liebe ﬂießen kann. \nAusschreibung: Aurafrühstück_2_25_Liebe
URL:https://mt-schmitz.de/termin/fruehstuecken-aura-sehen-mehr-freude/
LOCATION:Brygidka Schendel\, Nassauerstr. 15\, Saarbrücken\, 66111\, Deutschland
ORGANIZER;CN="MariaTheresia Schmitz":MAILTO:info@mt-schmitz.de
END:VEVENT
END:VCALENDAR