BEGIN:VCALENDAR
VERSION:2.0
PRODID:-//MariaTheresia Schmitz - ECPv6.15.20//NONSGML v1.0//EN
CALSCALE:GREGORIAN
METHOD:PUBLISH
X-ORIGINAL-URL:https://mt-schmitz.de
X-WR-CALDESC:Veranstaltungen für MariaTheresia Schmitz
REFRESH-INTERVAL;VALUE=DURATION:PT1H
X-Robots-Tag:noindex
X-PUBLISHED-TTL:PT1H
BEGIN:VTIMEZONE
TZID:Europe/Berlin
BEGIN:DAYLIGHT
TZOFFSETFROM:+0100
TZOFFSETTO:+0200
TZNAME:CEST
DTSTART:20230326T010000
END:DAYLIGHT
BEGIN:STANDARD
TZOFFSETFROM:+0200
TZOFFSETTO:+0100
TZNAME:CET
DTSTART:20231029T010000
END:STANDARD
BEGIN:DAYLIGHT
TZOFFSETFROM:+0100
TZOFFSETTO:+0200
TZNAME:CEST
DTSTART:20240331T010000
END:DAYLIGHT
BEGIN:STANDARD
TZOFFSETFROM:+0200
TZOFFSETTO:+0100
TZNAME:CET
DTSTART:20241027T010000
END:STANDARD
BEGIN:DAYLIGHT
TZOFFSETFROM:+0100
TZOFFSETTO:+0200
TZNAME:CEST
DTSTART:20250330T010000
END:DAYLIGHT
BEGIN:STANDARD
TZOFFSETFROM:+0200
TZOFFSETTO:+0100
TZNAME:CET
DTSTART:20251026T010000
END:STANDARD
END:VTIMEZONE
BEGIN:VEVENT
DTSTART;TZID=Europe/Berlin:20241130T170000
DTEND;TZID=Europe/Berlin:20241130T200000
DTSTAMP:20260422T091637
CREATED:20240910T084123Z
LAST-MODIFIED:20241123T134519Z
UID:881-1732986000-1732996800@mt-schmitz.de
SUMMARY:Vortrag - Menschen mit Demenz verstehen
DESCRIPTION:Ich möchte Ihnen mit diesem Vortrag\, anhand von praktischen Beispielen\, einen Einblick in die Erlebenswelt der Menschen mit Demenz geben\, damit mehr Verständnis & Entwicklung für Alle entsteht. \nAnmeldung unter: wimpassing@bibliotheken.at \nAusschreibung_Vortrag_Demenz
URL:https://mt-schmitz.de/termin/vortrag-menschen-mit-demenz-verstehen/
LOCATION:Wimpassing/Leitha\, Österreich\, Wimpassing/Leitha\, Austria
ORGANIZER;CN="MariaTheresia Schmitz":MAILTO:info@mt-schmitz.de
END:VEVENT
END:VCALENDAR