BEGIN:VCALENDAR
VERSION:2.0
PRODID:-//MariaTheresia Schmitz - ECPv6.15.20//NONSGML v1.0//EN
CALSCALE:GREGORIAN
METHOD:PUBLISH
X-WR-CALNAME:MariaTheresia Schmitz
X-ORIGINAL-URL:https://mt-schmitz.de
X-WR-CALDESC:Veranstaltungen für MariaTheresia Schmitz
REFRESH-INTERVAL;VALUE=DURATION:PT1H
X-Robots-Tag:noindex
X-PUBLISHED-TTL:PT1H
BEGIN:VTIMEZONE
TZID:Europe/Berlin
BEGIN:DAYLIGHT
TZOFFSETFROM:+0100
TZOFFSETTO:+0200
TZNAME:CEST
DTSTART:20230326T010000
END:DAYLIGHT
BEGIN:STANDARD
TZOFFSETFROM:+0200
TZOFFSETTO:+0100
TZNAME:CET
DTSTART:20231029T010000
END:STANDARD
BEGIN:DAYLIGHT
TZOFFSETFROM:+0100
TZOFFSETTO:+0200
TZNAME:CEST
DTSTART:20240331T010000
END:DAYLIGHT
BEGIN:STANDARD
TZOFFSETFROM:+0200
TZOFFSETTO:+0100
TZNAME:CET
DTSTART:20241027T010000
END:STANDARD
BEGIN:DAYLIGHT
TZOFFSETFROM:+0100
TZOFFSETTO:+0200
TZNAME:CEST
DTSTART:20250330T010000
END:DAYLIGHT
BEGIN:STANDARD
TZOFFSETFROM:+0200
TZOFFSETTO:+0100
TZNAME:CET
DTSTART:20251026T010000
END:STANDARD
END:VTIMEZONE
BEGIN:VEVENT
DTSTART;TZID=Europe/Berlin:20240929T110000
DTEND;TZID=Europe/Berlin:20240929T170000
DTSTAMP:20260422T140647
CREATED:20240901T110206Z
LAST-MODIFIED:20240902T134103Z
UID:736-1727607600-1727629200@mt-schmitz.de
SUMMARY:Lebendiges Miteinander gestalten - Bewertungen verändern
DESCRIPTION:Seminarreihe von und mit Josef Bauer und MariaTheresia Schmitz \nDie Seminare können einzeln gebucht werden.  \nVorkenntnisse sind nicht erforderlich.  \nAnmeldungen bitte schriftlich per Mail oder telefonisch bis spätestens 10 Tage vor Veranstaltungsbeginn.
URL:https://mt-schmitz.de/termin/lebendiges-miteinander-gestalten/
LOCATION:Seminarhaus Mensch und Natur\, Gartenstr. 15\, Flammersfeld\, 57632\, Deutschland
ORGANIZER;CN="Josef Bauer & MariaTheresia Schmitz":MAILTO:info@mt-schmitz.de
END:VEVENT
END:VCALENDAR